BEGIN:VCALENDAR
VERSION:2.0
PRODID:-//Musica Sacra Iserlohn - ECPv5.0.3.1//NONSGML v1.0//EN
CALSCALE:GREGORIAN
METHOD:PUBLISH
X-WR-CALNAME:Musica Sacra Iserlohn
X-ORIGINAL-URL:https://www.musica-sacra-iserlohn.de
X-WR-CALDESC:Veranstaltungen im Musica Sacra Iserlohn
BEGIN:VTIMEZONE
TZID:UTC
BEGIN:STANDARD
TZOFFSETFROM:+0000
TZOFFSETTO:+0000
TZNAME:UTC
DTSTART:20190101T000000
END:STANDARD
END:VTIMEZONE
BEGIN:VEVENT
DTSTART;TZID=UTC:20190915T150000
DTEND;TZID=UTC:20190915T170000
DTSTAMP:20260420T195058
CREATED:20190816T083916Z
LAST-MODIFIED:20190816T091112Z
UID:2992-1568559600-1568566800@www.musica-sacra-iserlohn.de
SUMMARY:HERBSTLIEDER SINGEN – Ein GenerationenSingProjekt!
DESCRIPTION:„Bunt sind schon die Wälder“ oder „Der Herbst ist da“…\nBekannte und neue Lieder wollen wir gemeinsam mit Kindern aus den Grundschulen: „Auf der Emst“ und „Saatschule“\, dem Kindergarten St. Hildegard und dem Chor Herz-Jesu singen. Außerdem werden instrumentale Stücke und kurze Texte vorgetragen.\nAnschließend sind alle herzlich zu einem gemütlichen Treff im Pfarrheim bei Kuchen und Getränken eingeladen. \nAnmeldung nicht erforderlich! Einfach kommen! \n\n\n	Ähnliche Beiträge\n
URL:https://www.musica-sacra-iserlohn.de/event/herbstlieder-singen-ein-generationensingprojekt/
LOCATION:Herz-Jesu Kirche\, Untergrüner Str. 190\, Iserlohn-Grüne\, Untergrüner Str. 190\, Iserlohn\, 58644\, Deutschland
CATEGORIES:Week of Praise
END:VEVENT
END:VCALENDAR