BEGIN:VCALENDAR
VERSION:2.0
PRODID:-//Musica Sacra Iserlohn - ECPv5.0.3.1//NONSGML v1.0//EN
CALSCALE:GREGORIAN
METHOD:PUBLISH
X-WR-CALNAME:Musica Sacra Iserlohn
X-ORIGINAL-URL:https://www.musica-sacra-iserlohn.de
X-WR-CALDESC:Veranstaltungen im Musica Sacra Iserlohn
BEGIN:VTIMEZONE
TZID:UTC
BEGIN:STANDARD
TZOFFSETFROM:+0000
TZOFFSETTO:+0000
TZNAME:UTC
DTSTART:20190101T000000
END:STANDARD
END:VTIMEZONE
BEGIN:VEVENT
DTSTART;TZID=UTC:20190916T180000
DTEND;TZID=UTC:20190916T220000
DTSTAMP:20260420T194429
CREATED:20190816T084903Z
LAST-MODIFIED:20190816T091645Z
UID:2998-1568656800-1568671200@www.musica-sacra-iserlohn.de
SUMMARY:Musikerstammtisch
DESCRIPTION:Du leitest einen Chor\, eine Band oder spielst Orgel?\nDann bist Du herzlich eingeladen zum ersten Musikerstammtisch im Dekanat Märkisches Sauerland.\nDas Dekanat lädt Dich mit Dekanatskirchenmusiker Tobias Leschke\, den Leuchtturmmusikern Christian Rose\, Maximilian Wolf und Kirchenmusikerin Stefanie Krämer-Laame ein\, andere Aktive kennenzulernen\,\nDich auszutauschen\, neue Anregungen zu bekommen\, in gemütlicher Runde beisammen zu sein\, …! \nDie erste Runde geht auf´s Dekanat!\nWir freuen uns auf Dich! Sei dabei! \nTreffpunkt ist der  Biergarten der Gaststätte Mettgenpin\, Hönnetalstr. 7\, 58675 Hemer \nAnmeldungen an:\ninfo@dekanat-maerkisches-Sauerland.de\noder telefonisch unter: 02372/557600. \n\n\n	Ähnliche Beiträge\n
URL:https://www.musica-sacra-iserlohn.de/event/musikerstammtisch/
LOCATION:Mettgenpin\, Hönnetalstr. 7\, Hemer\, 58675\, Deutschland
CATEGORIES:Week of Praise
END:VEVENT
END:VCALENDAR