BEGIN:VCALENDAR
VERSION:2.0
PRODID:-//Musica Sacra Iserlohn - ECPv5.0.3.1//NONSGML v1.0//EN
CALSCALE:GREGORIAN
METHOD:PUBLISH
X-WR-CALNAME:Musica Sacra Iserlohn
X-ORIGINAL-URL:https://www.musica-sacra-iserlohn.de
X-WR-CALDESC:Veranstaltungen im Musica Sacra Iserlohn
BEGIN:VTIMEZONE
TZID:UTC
BEGIN:STANDARD
TZOFFSETFROM:+0000
TZOFFSETTO:+0000
TZNAME:UTC
DTSTART:20190101T000000
END:STANDARD
END:VTIMEZONE
BEGIN:VEVENT
DTSTART;TZID=UTC:20190921T103000
DTEND;TZID=UTC:20190921T180000
DTSTAMP:20260421T031145
CREATED:20190816T090947Z
LAST-MODIFIED:20190816T091601Z
UID:3011-1569061800-1569088800@www.musica-sacra-iserlohn.de
SUMMARY:NGL – Neues Geistliches-Lied – Da gibt´s doch was Neues!
DESCRIPTION:Andere Lieder kennenlernen!\nNeue Liederbücher wie die unterschiedlichen Bände der Reihe „Feiert Jesus“ erfreuen sich zu Recht wachsender Begeisterung.\nKirchenmusikdirektor Christoph Spengler als erfahrener Komponist\,\nDirigent\, Pianist und Chorleiter wird an diesem Tag neuere und nicht so bekannte Lieder mit uns einstudieren.\nChristoph Spengler ist Lehrbeauftragter für Klavier an der Pop-Akademie Witten beim deutschlandweit ersten Studiengang Kirchenmusik popular. \n10:30 bis 11:00 Uhr Ankommen und Stehcafé im Pfarrheim St. Marien Menden\n11:00 bis 13:00 Uhr Warmwerden und Repertoirestudium NGL\n13:00 bis 14:00 Uhr Mittagessen und Pause\n14:00 bis 15:30 Uhr Vertiefendes Repertoirestudium\n15:30 bis 16:00 Uhr Kaffeepause\n16:00 bis 16:45 Uhr Letzte Proben in der Kirche\n17:00 Uhr Abschluss des Tages/Musikalische Mitgestaltung des Gottesdienstes \nEs wird eine Verpflegungspauschale von 5 € pro Person erhoben\, die am Veranstaltungstag bezahlt wird. \nAnmeldungen an: info@dekanat-maerkisches-Sauerland.de\,\noder telefonisch unter: 02372/557600. \n\n\n	Ähnliche Beiträge\n
URL:https://www.musica-sacra-iserlohn.de/event/ngl-neues-geistliches-lied-da-gibts-doch-was-neues/
LOCATION:Pfarrheim St. Marien\, Margueritenweg 3a\, Menden (Sauerland)\, 58708\, Deutschland
CATEGORIES:Week of Praise
END:VEVENT
END:VCALENDAR