BEGIN:VCALENDAR
VERSION:2.0
PRODID:-//Musica Sacra Iserlohn - ECPv5.0.3.1//NONSGML v1.0//EN
CALSCALE:GREGORIAN
METHOD:PUBLISH
X-WR-CALNAME:Musica Sacra Iserlohn
X-ORIGINAL-URL:https://www.musica-sacra-iserlohn.de
X-WR-CALDESC:Veranstaltungen im Musica Sacra Iserlohn
BEGIN:VTIMEZONE
TZID:UTC
BEGIN:STANDARD
TZOFFSETFROM:+0000
TZOFFSETTO:+0000
TZNAME:UTC
DTSTART:20190101T000000
END:STANDARD
END:VTIMEZONE
BEGIN:VEVENT
DTSTART;TZID=UTC:20190918T080000
DTEND;TZID=UTC:20190918T180000
DTSTAMP:20260420T233827
CREATED:20190816T090053Z
LAST-MODIFIED:20190816T092454Z
UID:3003-1568793600-1568829600@www.musica-sacra-iserlohn.de
SUMMARY:Orgel?! Let‘s do it!!!
DESCRIPTION:„Einfach mal Orgel spielen…”\nMal laut und pompös\, mal ganz leise und zart.\nNicht umsonst nannte Mozart sie die „Königin der Instrumente“.\nIn den Orgelschnupperstunden im Rahmen der „Week of praise“\ndarf sich jeder einmal unter der Anleitung eines hauptberuflichen\nKirchenmusikers ausprobieren.\nKeine Zwänge\, keinerlei Verpflichtungen! Grundkenntnisse im\nKlavierspiel sind hilfreich\, aber keine Voraussetzung. \nAm Vormittag sind insbesondere auch Kindergarten- und\nGrundschulkinder und KiTas mit ihren ErzieherInnen/\nLehrerInnen zu Orgelerlebnisführungen eingeladen! \n18. – 19. September jeweils 9-12 Uhr und 15–18 Uhr\nEine Schnupperstunde dauert 30 Minuten. \nVeranstaltungsorte: \nSt. Blasius\, Balve mit Maximilian Wolf\nSt. Vincenz\, Menden mit Christian Rose\nSt. Aloysius\, Iserlohn mit Tobias Leschke \nAnmeldungen an: \ninfo@dekanat-maerkisches-Sauerland.de\,\noder telefonisch unter: 02372/557600. \n\n\n	Ähnliche Beiträge\n
URL:https://www.musica-sacra-iserlohn.de/event/orgel-lets-do-it/
CATEGORIES:Exkursion,Week of Praise
END:VEVENT
END:VCALENDAR