BEGIN:VCALENDAR
VERSION:2.0
PRODID:-//Musica Sacra Iserlohn - ECPv5.0.3.1//NONSGML v1.0//EN
CALSCALE:GREGORIAN
METHOD:PUBLISH
X-WR-CALNAME:Musica Sacra Iserlohn
X-ORIGINAL-URL:https://www.musica-sacra-iserlohn.de
X-WR-CALDESC:Veranstaltungen im Musica Sacra Iserlohn
BEGIN:VTIMEZONE
TZID:UTC
BEGIN:STANDARD
TZOFFSETFROM:+0000
TZOFFSETTO:+0000
TZNAME:UTC
DTSTART:20190101T000000
END:STANDARD
END:VTIMEZONE
BEGIN:VEVENT
DTSTART;TZID=UTC:20190914T000000
DTEND;TZID=UTC:20190922T235959
DTSTAMP:20260421T012648
CREATED:20190721T200405Z
LAST-MODIFIED:20190816T084111Z
UID:2743-1568419200-1569196799@www.musica-sacra-iserlohn.de
SUMMARY:Week of praise
DESCRIPTION:“Week of Praise” \nunter diesem Motto wird es musikalisch im Dekanat Märkisches Sauerland \nVom 14.9. bis 22.9.2019 finden unterschiedliche Musikwerkstätten statt. Hierzu konnten hochrangige Referenten gewonnen werden \n→ Schauen Sie sich den Flyer zur “Week of Praise” an! \n\n\n	Ähnliche Beiträge\n
URL:https://www.musica-sacra-iserlohn.de/event/weihnachtskonzert/
LOCATION:St. Aloysius\, Hohler Weg 44\, Iserlohn\, Deutschland\, 58636
CATEGORIES:Week of Praise
END:VEVENT
END:VCALENDAR