BEGIN:VCALENDAR
VERSION:2.0
PRODID:-//Musica Sacra Iserlohn - ECPv5.0.3.1//NONSGML v1.0//EN
CALSCALE:GREGORIAN
METHOD:PUBLISH
X-WR-CALNAME:Musica Sacra Iserlohn
X-ORIGINAL-URL:https://www.musica-sacra-iserlohn.de
X-WR-CALDESC:Veranstaltungen im Musica Sacra Iserlohn
BEGIN:VTIMEZONE
TZID:UTC
BEGIN:STANDARD
TZOFFSETFROM:+0000
TZOFFSETTO:+0000
TZNAME:UTC
DTSTART:20190101T000000
END:STANDARD
END:VTIMEZONE
BEGIN:VEVENT
DTSTART;TZID=UTC:20190914T110000
DTEND;TZID=UTC:20190914T180000
DTSTAMP:20260420T232449
CREATED:20190816T083359Z
LAST-MODIFIED:20190816T091014Z
UID:2989-1568458800-1568484000@www.musica-sacra-iserlohn.de
SUMMARY:„Worship gospeln – Gospel worshippen“
DESCRIPTION:“Week of Praise” – Workshop von 11 bis 18 Uhr im Haus Hemer mit der Sängerin Njeri Weth.\n11:00 bis 11:30 Uhr Ankommen und Stehcafé im Haus Hemer\n11:30 bis 12:15 Uhr Kennenlernen und Stimmbildung\n12:15 bis 13:00 Uhr Heart of Worship – Soul of Gospel\n13:00 bis 14:00 Uhr Mittagessen und Pause\n14:00 bis 14:45 Uhr Repertoirestudium Worship\n14:45 bis 15:30 Uhr Repertoirestudium Gospel\n15:30 bis 16:00 Uhr Kaffeepause\n16:00 bis 16:45 Uhr Soundcheck und letzte Vorbereitungen in der Kirche St. Peter und Paul\n17:00 Uhr Abschluss des Tages/Musikalische Mitgestaltung des Gottesdienstes\nEs wird eine Verpflegungspauschale von 5 € pro Person erhoben\, die am Veranstaltungstag bezahlt wird.\nAnmeldungen an: info@dekanat-maerkisches-Sauerland.de\, oder telefonisch unter: 02372/557600. \n\n\n	Ähnliche Beiträge\n
URL:https://www.musica-sacra-iserlohn.de/event/worship-gospeln-gospel-worshippen/
LOCATION:Haus Hemer\, Geitbecke 8\, Hemer\, 58675
CATEGORIES:Week of Praise
END:VEVENT
END:VCALENDAR